BEGIN:VCALENDAR
VERSION:2.0
PRODID:-//Asaja Ciudad Real - ECPv6.15.17.1//NONSGML v1.0//EN
CALSCALE:GREGORIAN
METHOD:PUBLISH
X-WR-CALNAME:Asaja Ciudad Real
X-ORIGINAL-URL:https://www.asajacr.com
X-WR-CALDESC:Eventos para Asaja Ciudad Real
REFRESH-INTERVAL;VALUE=DURATION:PT1H
X-Robots-Tag:noindex
X-PUBLISHED-TTL:PT1H
BEGIN:VTIMEZONE
TZID:Europe/Madrid
BEGIN:DAYLIGHT
TZOFFSETFROM:+0100
TZOFFSETTO:+0200
TZNAME:CEST
DTSTART:20210328T010000
END:DAYLIGHT
BEGIN:STANDARD
TZOFFSETFROM:+0200
TZOFFSETTO:+0100
TZNAME:CET
DTSTART:20211031T010000
END:STANDARD
BEGIN:DAYLIGHT
TZOFFSETFROM:+0100
TZOFFSETTO:+0200
TZNAME:CEST
DTSTART:20220327T010000
END:DAYLIGHT
BEGIN:STANDARD
TZOFFSETFROM:+0200
TZOFFSETTO:+0100
TZNAME:CET
DTSTART:20221030T010000
END:STANDARD
BEGIN:DAYLIGHT
TZOFFSETFROM:+0100
TZOFFSETTO:+0200
TZNAME:CEST
DTSTART:20230326T010000
END:DAYLIGHT
BEGIN:STANDARD
TZOFFSETFROM:+0200
TZOFFSETTO:+0100
TZNAME:CET
DTSTART:20231029T010000
END:STANDARD
END:VTIMEZONE
BEGIN:VEVENT
DTSTART;VALUE=DATE:20221021
DTEND;VALUE=DATE:20221022
DTSTAMP:20260422T211953
CREATED:20221017T112949Z
LAST-MODIFIED:20221017T112949Z
UID:8389-1666310400-1666396799@www.asajacr.com
SUMMARY:PREMIOS JOVEN AGRICULTOR
DESCRIPTION:Madrid. 10:00 horas. Entrega de Premios Joven Agricultor 2022 \nEn la sede de ASAJA Nacional \nC/ Agustín de Bethencourt\, 17 – 2º Planta \n28003 MADRID \n  \nInscripciones: https://docs.google.com/forms/d/e/1FAIpQLScLmkmnkXxc0vjPvIhYeA2MBU_brK8rc2283QkbxJ833zmL6g/viewform \n  \nPROGRAMA:
URL:https://www.asajacr.com/agenda/premios-joven-agricultor/
CATEGORIES:Congreso
END:VEVENT
END:VCALENDAR