BEGIN:VCALENDAR
VERSION:2.0
PRODID:-//Asaja Ciudad Real - ECPv6.15.17.1//NONSGML v1.0//EN
CALSCALE:GREGORIAN
METHOD:PUBLISH
X-ORIGINAL-URL:https://www.asajacr.com
X-WR-CALDESC:Eventos para Asaja Ciudad Real
REFRESH-INTERVAL;VALUE=DURATION:PT1H
X-Robots-Tag:noindex
X-PUBLISHED-TTL:PT1H
BEGIN:VTIMEZONE
TZID:Europe/Madrid
BEGIN:DAYLIGHT
TZOFFSETFROM:+0100
TZOFFSETTO:+0200
TZNAME:CEST
DTSTART:20190331T010000
END:DAYLIGHT
BEGIN:STANDARD
TZOFFSETFROM:+0200
TZOFFSETTO:+0100
TZNAME:CET
DTSTART:20191027T010000
END:STANDARD
BEGIN:DAYLIGHT
TZOFFSETFROM:+0100
TZOFFSETTO:+0200
TZNAME:CEST
DTSTART:20200329T010000
END:DAYLIGHT
BEGIN:STANDARD
TZOFFSETFROM:+0200
TZOFFSETTO:+0100
TZNAME:CET
DTSTART:20201025T010000
END:STANDARD
BEGIN:DAYLIGHT
TZOFFSETFROM:+0100
TZOFFSETTO:+0200
TZNAME:CEST
DTSTART:20210328T010000
END:DAYLIGHT
BEGIN:STANDARD
TZOFFSETFROM:+0200
TZOFFSETTO:+0100
TZNAME:CET
DTSTART:20211031T010000
END:STANDARD
END:VTIMEZONE
BEGIN:VEVENT
DTSTART;VALUE=DATE:20201113
DTEND;VALUE=DATE:20201114
DTSTAMP:20260425T030018
CREATED:20201026T165934Z
LAST-MODIFIED:20201026T165934Z
UID:6120-1605225600-1605311999@www.asajacr.com
SUMMARY:Curso Apicultura
DESCRIPTION:Formación presencial y totalmente gratuita para todos los interesados en conocer el mundo de la apicultura y manejo del colmenar. Además\, este curso es válido para  dar cumplimiento a las bases reguladoras de las ayudas a la apicultura para la mejora de la biodiversidad  en el marco de la Submedida 10.1.1 del Programa de Desarrollo Rural de Castilla-La Mancha. \nFecha del 13 al 20 de noviembre \nSolicita más información en el teléfono 926 41 04 99. \nInscríbete mandando un e-mail a formacion@asajacr.com
URL:https://www.asajacr.com/agenda/curso-apicultura/
CATEGORIES:Curso
END:VEVENT
END:VCALENDAR