BEGIN:VCALENDAR
VERSION:2.0
PRODID:-//Asaja Ciudad Real - ECPv6.15.17.1//NONSGML v1.0//EN
CALSCALE:GREGORIAN
METHOD:PUBLISH
X-ORIGINAL-URL:https://www.asajacr.com
X-WR-CALDESC:Eventos para Asaja Ciudad Real
REFRESH-INTERVAL;VALUE=DURATION:PT1H
X-Robots-Tag:noindex
X-PUBLISHED-TTL:PT1H
BEGIN:VTIMEZONE
TZID:Europe/Madrid
BEGIN:DAYLIGHT
TZOFFSETFROM:+0100
TZOFFSETTO:+0200
TZNAME:CEST
DTSTART:20190331T010000
END:DAYLIGHT
BEGIN:STANDARD
TZOFFSETFROM:+0200
TZOFFSETTO:+0100
TZNAME:CET
DTSTART:20191027T010000
END:STANDARD
BEGIN:DAYLIGHT
TZOFFSETFROM:+0100
TZOFFSETTO:+0200
TZNAME:CEST
DTSTART:20200329T010000
END:DAYLIGHT
BEGIN:STANDARD
TZOFFSETFROM:+0200
TZOFFSETTO:+0100
TZNAME:CET
DTSTART:20201025T010000
END:STANDARD
BEGIN:DAYLIGHT
TZOFFSETFROM:+0100
TZOFFSETTO:+0200
TZNAME:CEST
DTSTART:20210328T010000
END:DAYLIGHT
BEGIN:STANDARD
TZOFFSETFROM:+0200
TZOFFSETTO:+0100
TZNAME:CET
DTSTART:20211031T010000
END:STANDARD
END:VTIMEZONE
BEGIN:VEVENT
DTSTART;VALUE=DATE:20201204
DTEND;VALUE=DATE:20201205
DTSTAMP:20260425T004943
CREATED:20201113T162619Z
LAST-MODIFIED:20201113T162619Z
UID:6139-1607040000-1607126399@www.asajacr.com
SUMMARY:Curso Incorporación Jóvenes
DESCRIPTION:Desde su casa\, cómodamente y a tu ritmo podrás realizar este curso válido para dar cumplimiento a las bases reguladoras de las ayudas a la creación de empresas agrarias para jóvenes y a las inversiones en explotaciones agrícolas y ganaderas en el marco de las Submedidas 6.1 y 4.1 del Programa de Desarrollo Rural de Castilla-La Mancha. \nCurso online de 150 horas. \nPrecio no socios: 210 euros \nPrecio socios: 50% de descuento \nDescuento por pronto pago: 10%  (Hasta el 30 de noviembre) \nFecha de inicio: 4 diciembre \nMás información llama al 926 21 03 82 (pregunta por Alfonsi)
URL:https://www.asajacr.com/agenda/curso-incorporacion-jovenes/
CATEGORIES:Curso
END:VEVENT
END:VCALENDAR