BEGIN:VCALENDAR
VERSION:2.0
PRODID:-//Asaja Ciudad Real - ECPv6.15.17.1//NONSGML v1.0//EN
CALSCALE:GREGORIAN
METHOD:PUBLISH
X-WR-CALNAME:Asaja Ciudad Real
X-ORIGINAL-URL:https://www.asajacr.com
X-WR-CALDESC:Eventos para Asaja Ciudad Real
REFRESH-INTERVAL;VALUE=DURATION:PT1H
X-Robots-Tag:noindex
X-PUBLISHED-TTL:PT1H
BEGIN:VTIMEZONE
TZID:Europe/Madrid
BEGIN:DAYLIGHT
TZOFFSETFROM:+0100
TZOFFSETTO:+0200
TZNAME:CEST
DTSTART:20220327T010000
END:DAYLIGHT
BEGIN:STANDARD
TZOFFSETFROM:+0200
TZOFFSETTO:+0100
TZNAME:CET
DTSTART:20221030T010000
END:STANDARD
BEGIN:DAYLIGHT
TZOFFSETFROM:+0100
TZOFFSETTO:+0200
TZNAME:CEST
DTSTART:20230326T010000
END:DAYLIGHT
BEGIN:STANDARD
TZOFFSETFROM:+0200
TZOFFSETTO:+0100
TZNAME:CET
DTSTART:20231029T010000
END:STANDARD
BEGIN:DAYLIGHT
TZOFFSETFROM:+0100
TZOFFSETTO:+0200
TZNAME:CEST
DTSTART:20240331T010000
END:DAYLIGHT
BEGIN:STANDARD
TZOFFSETFROM:+0200
TZOFFSETTO:+0100
TZNAME:CET
DTSTART:20241027T010000
END:STANDARD
END:VTIMEZONE
BEGIN:VEVENT
DTSTART;VALUE=DATE:20230124
DTEND;VALUE=DATE:20230125
DTSTAMP:20260421T211721
CREATED:20230112T074326Z
LAST-MODIFIED:20230112T074326Z
UID:8900-1674518400-1674604799@www.asajacr.com
SUMMARY:FERIA AGRARIA
DESCRIPTION:AGRARIA\, feria especializada en maquinaria agrícola que abrirá sus puertas el martes 24 de enero y se celebrará hasta el viernes 27 de enero en Valladolid. \nHabrá una exposición comercial de 33.000 metros cuadrados en los que se presentan máquinas\, equipos y servicios para todo tipo de cultivos\, desde cereales hasta industriales\, forrajes\, leñosos\, etc. \nAdemás\, AGRARIA ofrece un interesante programa de conferencias y mesas redondas en las que este año la nueva PAC será un tema recurrente dada la importancia que tiene para el futuro del sector. \nEl acceso a AGRARIA es gratuito previa inscripción como visitante profesional en este enlace https://publicalt.xeria.es/agraria2023/es/register/Register/profesionales
URL:https://www.asajacr.com/agenda/feria-agraria/
CATEGORIES:Feria
END:VEVENT
END:VCALENDAR