BEGIN:VCALENDAR
VERSION:2.0
PRODID:-//Asaja Ciudad Real - ECPv6.15.17.1//NONSGML v1.0//EN
CALSCALE:GREGORIAN
METHOD:PUBLISH
X-WR-CALNAME:Asaja Ciudad Real
X-ORIGINAL-URL:https://www.asajacr.com
X-WR-CALDESC:Eventos para Asaja Ciudad Real
REFRESH-INTERVAL;VALUE=DURATION:PT1H
X-Robots-Tag:noindex
X-PUBLISHED-TTL:PT1H
BEGIN:VTIMEZONE
TZID:Europe/Madrid
BEGIN:DAYLIGHT
TZOFFSETFROM:+0100
TZOFFSETTO:+0200
TZNAME:CEST
DTSTART:20220327T010000
END:DAYLIGHT
BEGIN:STANDARD
TZOFFSETFROM:+0200
TZOFFSETTO:+0100
TZNAME:CET
DTSTART:20221030T010000
END:STANDARD
BEGIN:DAYLIGHT
TZOFFSETFROM:+0100
TZOFFSETTO:+0200
TZNAME:CEST
DTSTART:20230326T010000
END:DAYLIGHT
BEGIN:STANDARD
TZOFFSETFROM:+0200
TZOFFSETTO:+0100
TZNAME:CET
DTSTART:20231029T010000
END:STANDARD
BEGIN:DAYLIGHT
TZOFFSETFROM:+0100
TZOFFSETTO:+0200
TZNAME:CEST
DTSTART:20240331T010000
END:DAYLIGHT
BEGIN:STANDARD
TZOFFSETFROM:+0200
TZOFFSETTO:+0100
TZNAME:CET
DTSTART:20241027T010000
END:STANDARD
END:VTIMEZONE
BEGIN:VEVENT
DTSTART;VALUE=DATE:20230509
DTEND;VALUE=DATE:20230510
DTSTAMP:20260421T133734
CREATED:20230203T113953Z
LAST-MODIFIED:20230404T090428Z
UID:9001-1683590400-1683676799@www.asajacr.com
SUMMARY:FENAVIN 2023
DESCRIPTION:FENAVIN 2023: 9\, 10 y 11 de mayo \n\n\nEl stand de ASAJA está en Pabellón OSIRIS\, Calle 2\, Stand 20.\n\n\n\n\n\nACTIVIDADES DE ASAJA\n\n\n\n– Sectorial Nacional Vitivinícola de ASAJA: 10 de mayo a las 10:30 horas. Aula nº 5\n \n– Conferencia ASAJA: 10 de mayo a las 12:00 horas. Aula nº 5 \nTítulo de la conferencia: “Las huellas ambientales y los cambios en el comercio internacional del vino: Retos y oportunidades”\n\nConferenciante: Sebastián Castillo\, director de Economía Agroalimentaria del Instituto de Desarrollo Regional de la UCLM \nBreve reseña: Los mercados mundiales del vino se están viendo condicionados por los aspectos ambientales relacionados con la lucha contra el Cambio Climático\, los impuestos al carbono\, los potenciales ajustes en frontera del carbono\, los mercados voluntarios de créditos ambientales\, los cambios en los envases\, la fermentación y el envasado en destino\, las preferencias de las nuevas generaciones de consumidores de vino\, los ‘millennials’\, la generación Z\, etc. Hacen imprescindible que las bodegas tengan presente el vector ambiental y adecuen sus estrategias comerciales a este nuevo escenario\, una disyuntiva que está llena de retos\, pero que también genera nuevas oportunidades para ser competitivo en este complejo sector.\n\nACREDITACIONES \n\n\nPara los interesados en asistir: las acreditaciones se pueden descargar en el siguiente enlace:  https://www.fenavin.com/acreditaciones  \nUna vez impresa la acreditación se recoge en la feria el lanyard y el soporte de plástico.
URL:https://www.asajacr.com/agenda/fenavin-2023/
CATEGORIES:Feria
END:VEVENT
BEGIN:VEVENT
DTSTART;VALUE=DATE:20230515
DTEND;VALUE=DATE:20230516
DTSTAMP:20260421T133734
CREATED:20230203T114058Z
LAST-MODIFIED:20230424T073515Z
UID:9005-1684108800-1684195199@www.asajacr.com
SUMMARY:SAN ISIDRO
DESCRIPTION:DAIMIEL
URL:https://www.asajacr.com/agenda/san-isidro/
CATEGORIES:Feria
END:VEVENT
END:VCALENDAR