BEGIN:VCALENDAR
VERSION:2.0
PRODID:-//Asaja Ciudad Real - ECPv6.15.17.1//NONSGML v1.0//EN
CALSCALE:GREGORIAN
METHOD:PUBLISH
X-WR-CALNAME:Asaja Ciudad Real
X-ORIGINAL-URL:https://www.asajacr.com
X-WR-CALDESC:Eventos para Asaja Ciudad Real
REFRESH-INTERVAL;VALUE=DURATION:PT1H
X-Robots-Tag:noindex
X-PUBLISHED-TTL:PT1H
BEGIN:VTIMEZONE
TZID:Europe/Madrid
BEGIN:DAYLIGHT
TZOFFSETFROM:+0100
TZOFFSETTO:+0200
TZNAME:CEST
DTSTART:20210328T010000
END:DAYLIGHT
BEGIN:STANDARD
TZOFFSETFROM:+0200
TZOFFSETTO:+0100
TZNAME:CET
DTSTART:20211031T010000
END:STANDARD
BEGIN:DAYLIGHT
TZOFFSETFROM:+0100
TZOFFSETTO:+0200
TZNAME:CEST
DTSTART:20220327T010000
END:DAYLIGHT
BEGIN:STANDARD
TZOFFSETFROM:+0200
TZOFFSETTO:+0100
TZNAME:CET
DTSTART:20221030T010000
END:STANDARD
BEGIN:DAYLIGHT
TZOFFSETFROM:+0100
TZOFFSETTO:+0200
TZNAME:CEST
DTSTART:20230326T010000
END:DAYLIGHT
BEGIN:STANDARD
TZOFFSETFROM:+0200
TZOFFSETTO:+0100
TZNAME:CET
DTSTART:20231029T010000
END:STANDARD
END:VTIMEZONE
BEGIN:VEVENT
DTSTART;VALUE=DATE:20220610
DTEND;VALUE=DATE:20220611
DTSTAMP:20260422T134012
CREATED:20220516T063033Z
LAST-MODIFIED:20220602T064412Z
UID:7768-1654819200-1654905599@www.asajacr.com
SUMMARY:FERDUQUE
DESCRIPTION:La IV Feria Nacional Agroganadera de los Estados del Duque (FERDUQUE 2022)\, la única feria de carácter itinerante de España\, regresa al calendario ferial tras el obligado parón provocado por la pandemia de Covid-19. La localidad ciudadrealeña de El Robledo será la sede de esta gran feria del mundo rural que\, en esta ocasión\, se celebrará del 10 al 12 de junio. \nOrganizada por la Mancomunidad Estados del Duque y ASAJA\, FERDUQUE “es una feria comercial y profesional en la que se muestran las últimas novedades y productos relacionados con el sector agroganadero\, pero también es una gran fiesta rural que engloba multitud de propuestas lúdicas y populares para todas las edades\, constituyendo un escaparate del enorme potencial de la comarca”.
URL:https://www.asajacr.com/agenda/ferduque/
CATEGORIES:Feria
END:VEVENT
END:VCALENDAR