BEGIN:VCALENDAR
VERSION:2.0
PRODID:-//Asaja Ciudad Real - ECPv6.15.17.1//NONSGML v1.0//EN
CALSCALE:GREGORIAN
METHOD:PUBLISH
X-WR-CALNAME:Asaja Ciudad Real
X-ORIGINAL-URL:https://www.asajacr.com
X-WR-CALDESC:Eventos para Asaja Ciudad Real
REFRESH-INTERVAL;VALUE=DURATION:PT1H
X-Robots-Tag:noindex
X-PUBLISHED-TTL:PT1H
BEGIN:VTIMEZONE
TZID:Europe/Madrid
BEGIN:DAYLIGHT
TZOFFSETFROM:+0100
TZOFFSETTO:+0200
TZNAME:CEST
DTSTART:20210328T010000
END:DAYLIGHT
BEGIN:STANDARD
TZOFFSETFROM:+0200
TZOFFSETTO:+0100
TZNAME:CET
DTSTART:20211031T010000
END:STANDARD
BEGIN:DAYLIGHT
TZOFFSETFROM:+0100
TZOFFSETTO:+0200
TZNAME:CEST
DTSTART:20220327T010000
END:DAYLIGHT
BEGIN:STANDARD
TZOFFSETFROM:+0200
TZOFFSETTO:+0100
TZNAME:CET
DTSTART:20221030T010000
END:STANDARD
BEGIN:DAYLIGHT
TZOFFSETFROM:+0100
TZOFFSETTO:+0200
TZNAME:CEST
DTSTART:20230326T010000
END:DAYLIGHT
BEGIN:STANDARD
TZOFFSETFROM:+0200
TZOFFSETTO:+0100
TZNAME:CET
DTSTART:20231029T010000
END:STANDARD
END:VTIMEZONE
BEGIN:VEVENT
DTSTART;VALUE=DATE:20220611
DTEND;VALUE=DATE:20220612
DTSTAMP:20260422T134030
CREATED:20220609T114205Z
LAST-MODIFIED:20220609T114235Z
UID:7863-1654905600-1654991999@www.asajacr.com
SUMMARY:CONFERENCIA PAC
DESCRIPTION:FERDUQUE 2022 es el lugar elegido por ASAJA Ciudad Real para abordar las novedades de la futura PAC.  No te pierdas esta conferencia de Florencio Rodríguez\, secretario general de la organización provincial agraria\, el sábado 11 de junio a las 12:30 en la Casa de la Cultura de El Robledo.
URL:https://www.asajacr.com/agenda/conferencia-pac/
CATEGORIES:Feria
END:VEVENT
END:VCALENDAR