BEGIN:VCALENDAR
VERSION:2.0
PRODID:-//Asaja Ciudad Real - ECPv6.15.17.1//NONSGML v1.0//EN
CALSCALE:GREGORIAN
METHOD:PUBLISH
X-WR-CALNAME:Asaja Ciudad Real
X-ORIGINAL-URL:https://www.asajacr.com
X-WR-CALDESC:Eventos para Asaja Ciudad Real
REFRESH-INTERVAL;VALUE=DURATION:PT1H
X-Robots-Tag:noindex
X-PUBLISHED-TTL:PT1H
BEGIN:VTIMEZONE
TZID:Europe/Madrid
BEGIN:DAYLIGHT
TZOFFSETFROM:+0100
TZOFFSETTO:+0200
TZNAME:CEST
DTSTART:20220327T010000
END:DAYLIGHT
BEGIN:STANDARD
TZOFFSETFROM:+0200
TZOFFSETTO:+0100
TZNAME:CET
DTSTART:20221030T010000
END:STANDARD
BEGIN:DAYLIGHT
TZOFFSETFROM:+0100
TZOFFSETTO:+0200
TZNAME:CEST
DTSTART:20230326T010000
END:DAYLIGHT
BEGIN:STANDARD
TZOFFSETFROM:+0200
TZOFFSETTO:+0100
TZNAME:CET
DTSTART:20231029T010000
END:STANDARD
BEGIN:DAYLIGHT
TZOFFSETFROM:+0100
TZOFFSETTO:+0200
TZNAME:CEST
DTSTART:20240331T010000
END:DAYLIGHT
BEGIN:STANDARD
TZOFFSETFROM:+0200
TZOFFSETTO:+0100
TZNAME:CET
DTSTART:20241027T010000
END:STANDARD
END:VTIMEZONE
BEGIN:VEVENT
DTSTART;VALUE=DATE:20230623
DTEND;VALUE=DATE:20230624
DTSTAMP:20260421T120952
CREATED:20230203T114028Z
LAST-MODIFIED:20230616T142832Z
UID:9003-1687478400-1687564799@www.asajacr.com
SUMMARY:FERDUQUE 2023
DESCRIPTION:El próximo día 23 de junio se inaugura la FERDUQUE 2023 en Los Cortijos. \nOs invitamos a disfrutar de las conferencias que nuestra organización profesional agraria tiene previstas en el marco de esta importante Feria. \nVIERNES\, 23 JUNIO\n19:30 Presente y futuro del olivar\nLugar: en el Salón de actos del colegio \nSÁBADO\, 24 JUNIO\n11:00 Ayudas ganaderas\n12:00 La nueva PAC 2023-2027\n18:30 El liderazgo de la mujer rural\nLugar: en el Salón de actos del colegio \nEsperamos contar con vuestra presencia. \nLa nueva PAC\, ayudas ganaderas\, el futuro del olivar o el liderazgo de la mujer rural\, centrarán las conferencias de FERDUQUE 2023 \n \n 
URL:https://www.asajacr.com/agenda/ferduque-2023/
CATEGORIES:Feria
END:VEVENT
END:VCALENDAR