BEGIN:VCALENDAR
VERSION:2.0
PRODID:-//Asaja Ciudad Real - ECPv6.15.17.1//NONSGML v1.0//EN
CALSCALE:GREGORIAN
METHOD:PUBLISH
X-ORIGINAL-URL:https://www.asajacr.com
X-WR-CALDESC:Eventos para Asaja Ciudad Real
REFRESH-INTERVAL;VALUE=DURATION:PT1H
X-Robots-Tag:noindex
X-PUBLISHED-TTL:PT1H
BEGIN:VTIMEZONE
TZID:Europe/Madrid
BEGIN:DAYLIGHT
TZOFFSETFROM:+0100
TZOFFSETTO:+0200
TZNAME:CEST
DTSTART:20210328T010000
END:DAYLIGHT
BEGIN:STANDARD
TZOFFSETFROM:+0200
TZOFFSETTO:+0100
TZNAME:CET
DTSTART:20211031T010000
END:STANDARD
BEGIN:DAYLIGHT
TZOFFSETFROM:+0100
TZOFFSETTO:+0200
TZNAME:CEST
DTSTART:20220327T010000
END:DAYLIGHT
BEGIN:STANDARD
TZOFFSETFROM:+0200
TZOFFSETTO:+0100
TZNAME:CET
DTSTART:20221030T010000
END:STANDARD
BEGIN:DAYLIGHT
TZOFFSETFROM:+0100
TZOFFSETTO:+0200
TZNAME:CEST
DTSTART:20230326T010000
END:DAYLIGHT
BEGIN:STANDARD
TZOFFSETFROM:+0200
TZOFFSETTO:+0100
TZNAME:CET
DTSTART:20231029T010000
END:STANDARD
END:VTIMEZONE
BEGIN:VEVENT
DTSTART;VALUE=DATE:20221123
DTEND;VALUE=DATE:20221124
DTSTAMP:20260425T211144
CREATED:20221118T134709Z
LAST-MODIFIED:20221118T134709Z
UID:8648-1669161600-1669247999@www.asajacr.com
SUMMARY:CONCENTRACIÓN EN MADRID
DESCRIPTION:
URL:https://www.asajacr.com/agenda/concentracion-en-madrid/
CATEGORIES:Manifestación
END:VEVENT
BEGIN:VEVENT
DTSTART;VALUE=DATE:20221129
DTEND;VALUE=DATE:20221130
DTSTAMP:20260425T211144
CREATED:20221126T143809Z
LAST-MODIFIED:20221126T143809Z
UID:8669-1669680000-1669766399@www.asajacr.com
SUMMARY:CONCENTRACIÓN MITECO
DESCRIPTION:ASAJA exigirá a la vicepresidenta tercera del Gobierno y ministra de Transición Ecológica acabar con los atropellos al sector agrario e iniciar una nueva etapa de dialogo y decisiones consensuadas con este sector esencial de nuestra economía\,  que además es el verdadero garante de nuestro patrimonio natural. \n \nFecha y Hora: Martes\, 29 de noviembre\,  12: 00 Horas  \nLugar: Ministerio de Transición Ecológica y Reto Demográfico   \n(Plaza de San Juan de la Cruz -Madrid-)
URL:https://www.asajacr.com/agenda/concentracion-miteco/
CATEGORIES:Manifestación
END:VEVENT
END:VCALENDAR