BEGIN:VCALENDAR
VERSION:2.0
PRODID:-//Asaja Ciudad Real - ECPv6.15.17.1//NONSGML v1.0//EN
CALSCALE:GREGORIAN
METHOD:PUBLISH
X-WR-CALNAME:Asaja Ciudad Real
X-ORIGINAL-URL:https://www.asajacr.com
X-WR-CALDESC:Eventos para Asaja Ciudad Real
REFRESH-INTERVAL;VALUE=DURATION:PT1H
X-Robots-Tag:noindex
X-PUBLISHED-TTL:PT1H
BEGIN:VTIMEZONE
TZID:Europe/Madrid
BEGIN:DAYLIGHT
TZOFFSETFROM:+0100
TZOFFSETTO:+0200
TZNAME:CEST
DTSTART:20180325T010000
END:DAYLIGHT
BEGIN:STANDARD
TZOFFSETFROM:+0200
TZOFFSETTO:+0100
TZNAME:CET
DTSTART:20181028T010000
END:STANDARD
BEGIN:DAYLIGHT
TZOFFSETFROM:+0100
TZOFFSETTO:+0200
TZNAME:CEST
DTSTART:20190331T010000
END:DAYLIGHT
BEGIN:STANDARD
TZOFFSETFROM:+0200
TZOFFSETTO:+0100
TZNAME:CET
DTSTART:20191027T010000
END:STANDARD
BEGIN:DAYLIGHT
TZOFFSETFROM:+0100
TZOFFSETTO:+0200
TZNAME:CEST
DTSTART:20200329T010000
END:DAYLIGHT
BEGIN:STANDARD
TZOFFSETFROM:+0200
TZOFFSETTO:+0100
TZNAME:CET
DTSTART:20201025T010000
END:STANDARD
END:VTIMEZONE
BEGIN:VEVENT
DTSTART;VALUE=DATE:20190815
DTEND;VALUE=DATE:20190816
DTSTAMP:20260421T120505
CREATED:20190808T142335Z
LAST-MODIFIED:20190808T142957Z
UID:4342-1565827200-1565913599@www.asajacr.com
SUMMARY:Concurso Regional de Arada
DESCRIPTION:La Asociación Agraria-Jóvenes Agricultores (ASAJA) de Tomelloso celebrará el próximo 26 de agosto la trigésimo quinta edición del Día del Viticultor. Enmarcado en esta celebración\, el miércoles 15 de agosto se disputará a partir de las 9:00 horas el XXVI Concurso Regional de Arada con Tractor\, en el paraje La Bolosa (sito en la carretera Tomelloso-El Bonillo\, km. 3). Los premios irán desde 60 a 350 euros\, más trofeos. La prueba se realizará\, a ser posible\, en varios turnos. La labor se ejecutará con un solo surco\, disponiendo de un tiempo máximo de una hora.
URL:https://www.asajacr.com/agenda/concurso-regional-de-arada/
CATEGORIES:Feria
ORGANIZER;CN="Asaja Ciudad Real":MAILTO:asaja@asajacr.org
END:VEVENT
END:VCALENDAR